BEGIN:VCALENDAR
VERSION:2.0
PRODID:Events Booking
BEGIN:VEVENT
UID:69eb752d10a52
SUMMARY:2026 CCPDA Membership Renewal (Member\, Associate)
DESCRIPTION:CCPDA collects an annual member registration renewal.&nbsp\; It
  is for each calendar year.
 Create Your Member's Account HERE
DTSTART:20260101T080000Z
DTEND:20261231T080000Z
DTSTAMP:20251016T235026Z
ORGANIZER;CN=info@ccpda.org:MAILTO:info@ccpda.org
END:VEVENT
END:VCALENDAR